BEGIN:VCALENDAR
VERSION:2.0
PRODID:-//NYSACHO - ECPv6.15.20//NONSGML v1.0//EN
CALSCALE:GREGORIAN
METHOD:PUBLISH
X-WR-CALNAME:NYSACHO
X-ORIGINAL-URL:https://nysacho.org
X-WR-CALDESC:Events for NYSACHO
REFRESH-INTERVAL;VALUE=DURATION:PT1H
X-Robots-Tag:noindex
X-PUBLISHED-TTL:PT1H
BEGIN:VTIMEZONE
TZID:America/New_York
BEGIN:DAYLIGHT
TZOFFSETFROM:-0500
TZOFFSETTO:-0400
TZNAME:EDT
DTSTART:20170312T070000
END:DAYLIGHT
BEGIN:STANDARD
TZOFFSETFROM:-0400
TZOFFSETTO:-0500
TZNAME:EST
DTSTART:20171105T060000
END:STANDARD
BEGIN:DAYLIGHT
TZOFFSETFROM:-0500
TZOFFSETTO:-0400
TZNAME:EDT
DTSTART:20180311T070000
END:DAYLIGHT
BEGIN:STANDARD
TZOFFSETFROM:-0400
TZOFFSETTO:-0500
TZNAME:EST
DTSTART:20181104T060000
END:STANDARD
BEGIN:DAYLIGHT
TZOFFSETFROM:-0500
TZOFFSETTO:-0400
TZNAME:EDT
DTSTART:20190310T070000
END:DAYLIGHT
BEGIN:STANDARD
TZOFFSETFROM:-0400
TZOFFSETTO:-0500
TZNAME:EST
DTSTART:20191103T060000
END:STANDARD
END:VTIMEZONE
BEGIN:VEVENT
DTSTART;VALUE=DATE:20181005
DTEND;VALUE=DATE:20181006
DTSTAMP:20260422T113053
CREATED:20180905T162006Z
LAST-MODIFIED:20180924T194512Z
UID:32679-1538697600-1538783999@nysacho.org
SUMMARY:NYSACHO Public Health Leaders Summit
DESCRIPTION:
URL:https://nysacho.org/event/nysacho-public-health-leaders-summit-2/
LOCATION:NY
END:VEVENT
BEGIN:VEVENT
DTSTART;VALUE=DATE:20181004
DTEND;VALUE=DATE:20181005
DTSTAMP:20260422T113053
CREATED:20180905T161830Z
LAST-MODIFIED:20180924T194506Z
UID:32676-1538611200-1538697599@nysacho.org
SUMMARY:NYSACHO Public Health Leaders Summit
DESCRIPTION:
URL:https://nysacho.org/event/nysacho-public-health-leaders-summit/
LOCATION:NY
END:VEVENT
BEGIN:VEVENT
DTSTART;VALUE=DATE:20180913
DTEND;VALUE=DATE:20180914
DTSTAMP:20260422T113053
CREATED:20180905T161154Z
LAST-MODIFIED:20180924T194459Z
UID:32672-1536796800-1536883199@nysacho.org
SUMMARY:NYSACHO General Membership Meeting
DESCRIPTION:
URL:https://nysacho.org/event/nysacho-general-membership-meeting/
LOCATION:NY
END:VEVENT
BEGIN:VEVENT
DTSTART;VALUE=DATE:20180903
DTEND;VALUE=DATE:20180904
DTSTAMP:20260422T113053
CREATED:20180905T161705Z
LAST-MODIFIED:20180905T161705Z
UID:32674-1535932800-1536019199@nysacho.org
SUMMARY:Office Closed - Labor Day
DESCRIPTION:
URL:https://nysacho.org/event/office-closed-labor-day/
LOCATION:NY
END:VEVENT
BEGIN:VEVENT
DTSTART;TZID=America/New_York:20180802T093000
DTEND;TZID=America/New_York:20180802T150000
DTSTAMP:20260422T113053
CREATED:20180822T183309Z
LAST-MODIFIED:20180924T194446Z
UID:32100-1533202200-1533222000@nysacho.org
SUMMARY:General Membership Meeting
DESCRIPTION:
URL:https://nysacho.org/event/general-membership-meeting-2/
LOCATION:Greek Peak Mountain Resort\, 2177 Clute Road\, Cortland\, NY\, 13045\, United States
END:VEVENT
END:VCALENDAR